BEGIN:VCALENDAR
VERSION:2.0
PRODID:-//ChamberMaster//Event Calendar 2.0//EN
METHOD:PUBLISH
X-PUBLISHED-TTL:P3D
REFRESH-INTERVAL:P3D
CALSCALE:GREGORIAN
BEGIN:VEVENT
DTSTART;VALUE=DATE:20160205
DTEND;VALUE=DATE:20160207
TRANSP:TRANSPARENT
X-MICROSOFT-CDO-ALLDAYEVENT:TRUE
SUMMARY:WinterFest
DESCRIPTION:A fantastic day of both indoor and outdoor activities designed to curb the cabin fever... if even just for a day.
X-ALT-DESC;FMTTYPE=text/html:<div class="_50f4">A fantastic day of both indoor and outdoor activities designed to curb the cabin fever... if even just for a day.</div>\n
LOCATION:
UID:e.621.4508
SEQUENCE:3
DTSTAMP:20260424T103302Z
URL:https://public.lakecity.org/events/details/winterfest-02-05-2016-4508
END:VEVENT

END:VCALENDAR
