BEGIN:VCALENDAR
VERSION:2.0
PRODID:-//ChamberMaster//Event Calendar 2.0//EN
METHOD:PUBLISH
X-PUBLISHED-TTL:P3D
REFRESH-INTERVAL:P3D
CALSCALE:GREGORIAN
BEGIN:VEVENT
DTSTART:20170204T160000Z
DTEND:20170204T190000Z
X-MICROSOFT-CDO-ALLDAYEVENT:FALSE
SUMMARY:WinterFest Photo Fun at the Lake City Public Library
DESCRIPTION:Take fun\, silly pictures with your family and friends at the Lake City Public Library!
X-ALT-DESC;FMTTYPE=text/html:Take fun\, silly pictures with your family and friends at the Lake City Public Library!
LOCATION:Lake City Public Library
UID:e.621.5663
SEQUENCE:3
DTSTAMP:20260422T060020Z
URL:https://public.lakecity.org/events/details/winterfest-photo-fun-at-the-lake-city-public-library-02-04-2017-5663
END:VEVENT

END:VCALENDAR
