BEGIN:VCALENDAR
VERSION:2.0
PRODID:-//ChamberMaster//Event Calendar 2.0//EN
METHOD:PUBLISH
X-PUBLISHED-TTL:P3D
REFRESH-INTERVAL:P3D
CALSCALE:GREGORIAN
BEGIN:VEVENT
DTSTART:20170816T170000Z
DTEND:20170816T193000Z
X-MICROSOFT-CDO-ALLDAYEVENT:FALSE
SUMMARY:Woman's Club of Lake City
DESCRIPTION:Woman's Club welcomes new members. We meet every third Wednesday of each month\, March through December at St. Mark's Episcopal Guild Hall. Please come and join us.
X-ALT-DESC;FMTTYPE=text/html:Woman&#39\;s Club welcomes new members. We meet every third Wednesday of each month\, March through December at St. Mark&#39\;s Episcopal Guild Hall. Please come and join us.
LOCATION:St. Mark's Episcopal Guild Hall
UID:e.621.5745
SEQUENCE:3
DTSTAMP:20260421T220851Z
URL:https://public.lakecity.org/events/details/woman-s-club-of-lake-city-08-16-2017-5745
END:VEVENT

END:VCALENDAR
