BEGIN:VCALENDAR
VERSION:2.0
PRODID:-//ChamberMaster//Event Calendar 2.0//EN
METHOD:PUBLISH
X-PUBLISHED-TTL:P3D
REFRESH-INTERVAL:P3D
CALSCALE:GREGORIAN
BEGIN:VEVENT
DTSTART:20171018T180000Z
DTEND:20171018T200000Z
X-MICROSOFT-CDO-ALLDAYEVENT:FALSE
SUMMARY:Woman's Club of Lake City
DESCRIPTION:Woman's Club welcomes new members. We meet every third Wednesday of each month March through December. Please come and enjoy a short program\, dessert\, and conversation.
X-ALT-DESC;FMTTYPE=text/html:Woman&#39\;s Club welcomes new members. We meet every third Wednesday of each month March through December. Please come and enjoy a short program\, dessert\, and conversation.
LOCATION:St. Mark's Episcopal Guild Hall 110 S Oak Street Lake City\, MN 55041
UID:e.621.6773
SEQUENCE:3
DTSTAMP:20260421T184148Z
URL:https://public.lakecity.org/events/details/woman-s-club-of-lake-city-10-18-2017-6773
END:VEVENT

END:VCALENDAR
