BEGIN:VCALENDAR
VERSION:2.0
PRODID:-//ChamberMaster//Event Calendar 2.0//EN
METHOD:PUBLISH
X-PUBLISHED-TTL:P3D
REFRESH-INTERVAL:P3D
CALSCALE:GREGORIAN
BEGIN:VEVENT
DTSTART:20170315T180000Z
DTEND:20170315T200000Z
X-MICROSOFT-CDO-ALLDAYEVENT:FALSE
SUMMARY:Woman's Club of Lake City
DESCRIPTION:Our group meets every third Wednesday of each month\, March-December. Monthly times and locations will be posted on this calendar prior to each meeting. Please come join us!
X-ALT-DESC;FMTTYPE=text/html:Our group meets every third Wednesday of each month\, March-December. Monthly times and locations will be posted on this calendar prior to each meeting. Please come join us!
LOCATION:St. Mark's Episcopal Church Guild Hall
UID:e.621.5684
SEQUENCE:3
DTSTAMP:20260422T043842Z
URL:https://public.lakecity.org/events/details/woman-s-club-of-lake-city-5684
END:VEVENT

END:VCALENDAR
