BEGIN:VCALENDAR
VERSION:2.0
PRODID:-//ChamberMaster//Event Calendar 2.0//EN
METHOD:PUBLISH
X-PUBLISHED-TTL:P3D
REFRESH-INTERVAL:P3D
CALSCALE:GREGORIAN
BEGIN:VEVENT
DTSTART:20150808T230000Z
DTEND:20150809T000000Z
X-MICROSOFT-CDO-ALLDAYEVENT:FALSE
SUMMARY:Wonderful Watersheds
DESCRIPTION:Make a land-use decision and then make it rain on the EnviroScape watershed to see if your choice impacts the local water resources. Presented by Ryan Flemke\, Frontenac State Park Intern\, MNDNR
X-ALT-DESC;FMTTYPE=text/html:Make a land-use decision and then make it rain on the EnviroScape watershed to see if your choice impacts the local water resources. Presented by Ryan Flemke\, Frontenac State Park Intern\, MNDNR
LOCATION:Frontenac State Park\, Picnic Shelter
UID:e.621.4484
SEQUENCE:3
DTSTAMP:20260424T201023Z
URL:https://public.lakecity.org/events/details/wonderful-watersheds-08-08-2015-4484
END:VEVENT

END:VCALENDAR
