BEGIN:VCALENDAR
VERSION:2.0
PRODID:-//ChamberMaster//Event Calendar 2.0//EN
METHOD:PUBLISH
X-PUBLISHED-TTL:P3D
REFRESH-INTERVAL:P3D
CALSCALE:GREGORIAN
BEGIN:VEVENT
DTSTART:20150815T230000Z
DTEND:20150816T000000Z
X-MICROSOFT-CDO-ALLDAYEVENT:FALSE
SUMMARY:Would You Drink This Water?
DESCRIPTION:Use your senses to determine if you would drink six different samples of water. Learn about water quality and water treatment issues. This family activity will provide many opportunities for laughter! Presented by Nadine Meyer\, Assistant Manager at Frontenac State Park.
X-ALT-DESC;FMTTYPE=text/html:Use your senses to determine if you would drink six different samples of water. Learn about water quality and water treatment issues. This family activity will provide many opportunities for laughter! Presented by Nadine Meyer\, Assistant Manager at Frontenac State Park.
LOCATION:Frontenac State Park\, Picnic Shelter
UID:e.621.4485
SEQUENCE:3
DTSTAMP:20260424T200650Z
URL:https://public.lakecity.org/events/details/would-you-drink-this-water-08-15-2015-4485
END:VEVENT

END:VCALENDAR
