BEGIN:VCALENDAR
VERSION:2.0
PRODID:-//ChamberMaster//Event Calendar 2.0//EN
METHOD:PUBLISH
X-PUBLISHED-TTL:P3D
REFRESH-INTERVAL:P3D
CALSCALE:GREGORIAN
BEGIN:VEVENT
DTSTART:20160912T223000Z
DTEND:20161025T010000Z
X-MICROSOFT-CDO-ALLDAYEVENT:FALSE
SUMMARY:Writing Fiction
DESCRIPTION:This is a 6-session activity focusing on the basics to help writers create compelling characters and choose an interesting crisis\, conflict\, or change.
X-ALT-DESC;FMTTYPE=text/html:This is a 6-session activity focusing on the basics to help writers create compelling characters and choose an interesting crisis\, conflict\, or change.
LOCATION:Lake City Public Library
UID:e.621.5420
SEQUENCE:3
DTSTAMP:20260422T114956Z
URL:https://public.lakecity.org/events/details/writing-fiction-09-12-2016-5420
END:VEVENT

END:VCALENDAR
