BEGIN:VCALENDAR
VERSION:2.0
PRODID:-//ChamberMaster//Event Calendar 2.0//EN
METHOD:PUBLISH
X-PUBLISHED-TTL:P3D
REFRESH-INTERVAL:P3D
CALSCALE:GREGORIAN
BEGIN:VEVENT
DTSTART:20150305T233000Z
DTEND:20150306T013000Z
X-MICROSOFT-CDO-ALLDAYEVENT:FALSE
SUMMARY:Young Professionals
DESCRIPTION:Come join us at Reads Landing Brewing Company for this month's Young Professionals networking event.
X-ALT-DESC;FMTTYPE=text/html:Come join us at Reads Landing Brewing Company for this month&#39\;s Young Professionals networking event.
LOCATION:Reads Landing Brewing Company 70555 202nd Avenue Reads Landing\, MN 55968
UID:e.621.4366
SEQUENCE:3
DTSTAMP:20260425T032550Z
URL:https://public.lakecity.org/events/details/young-professionals-03-05-2015-4366
END:VEVENT

END:VCALENDAR
