BEGIN:VCALENDAR
VERSION:2.0
PRODID:-//ChamberMaster//Event Calendar 2.0//EN
METHOD:PUBLISH
X-PUBLISHED-TTL:P3D
REFRESH-INTERVAL:P3D
CALSCALE:GREGORIAN
BEGIN:VEVENT
DTSTART:20150409T220000Z
DTEND:20150410T000000Z
X-MICROSOFT-CDO-ALLDAYEVENT:FALSE
SUMMARY:Young Professionals
DESCRIPTION:Join Young Professionals on Thursday April 9th at 5PM at the VFW.
X-ALT-DESC;FMTTYPE=text/html:Join Young Professionals on Thursday April 9th at 5PM at the VFW.
LOCATION:
UID:e.621.4410
SEQUENCE:3
DTSTAMP:20260425T015215Z
URL:https://public.lakecity.org/events/details/young-professionals-04-09-2015-4410
END:VEVENT

END:VCALENDAR
